BEGIN:VCALENDAR
VERSION:2.0
PRODID:-//Tannhjulet - ECPv6.15.20//NONSGML v1.0//EN
CALSCALE:GREGORIAN
METHOD:PUBLISH
X-ORIGINAL-URL:https://tannhjulet.no
X-WR-CALDESC:Events for Tannhjulet
REFRESH-INTERVAL;VALUE=DURATION:PT1H
X-Robots-Tag:noindex
X-PUBLISHED-TTL:PT1H
BEGIN:VTIMEZONE
TZID:Europe/Copenhagen
BEGIN:DAYLIGHT
TZOFFSETFROM:+0100
TZOFFSETTO:+0200
TZNAME:CEST
DTSTART:20180325T010000
END:DAYLIGHT
BEGIN:STANDARD
TZOFFSETFROM:+0200
TZOFFSETTO:+0100
TZNAME:CET
DTSTART:20181028T010000
END:STANDARD
BEGIN:DAYLIGHT
TZOFFSETFROM:+0100
TZOFFSETTO:+0200
TZNAME:CEST
DTSTART:20190331T010000
END:DAYLIGHT
BEGIN:STANDARD
TZOFFSETFROM:+0200
TZOFFSETTO:+0100
TZNAME:CET
DTSTART:20191027T010000
END:STANDARD
BEGIN:DAYLIGHT
TZOFFSETFROM:+0100
TZOFFSETTO:+0200
TZNAME:CEST
DTSTART:20200329T010000
END:DAYLIGHT
BEGIN:STANDARD
TZOFFSETFROM:+0200
TZOFFSETTO:+0100
TZNAME:CET
DTSTART:20201025T010000
END:STANDARD
END:VTIMEZONE
BEGIN:VEVENT
DTSTART;VALUE=DATE:20191011
DTEND;VALUE=DATE:20191013
DTSTAMP:20260420T122435
CREATED:20190531T183335Z
LAST-MODIFIED:20190531T183335Z
UID:23104-1570752000-1570924799@tannhjulet.no
SUMMARY:Farriskurset 2019
DESCRIPTION:Vestfold tannlegeforening inviterer til kurset ​«Kommunikasjon for steinaldermennesker» på Hotell Farris Bad i Larvik 11. – 12. oktober 2019 \n\nFredag 11. oktober kl. 09.00 – 16.00\nLørdag 12. oktober kl. 09.00 – 16.00\nRegistrering fredag fra kl. 08.00 \nSted\nHotel Farris Bad\, Larvik\n\nNB! Hotellopphold bestilles direkte til Farris Bad. Merk kurskode: Vestfold tannlegeforening\n\nPåmelding til kurset\nFor påmelding til kurset\, send mail til kurskontakt Cato Nordahl: catonordahl@msn.com \nPåmeldingsfrist\n15. september 2019 \nMer informasjon om kurset finner du på www.tannlegeforeningen.no/Vestfold \n  \n  \nFredag 11. oktober\nMålgruppe: hele tannhelseteamet \nSmittevern anno 2019\nI høst kom det nye «Faglige anbefalinger for smittevern i odontologisk praksis» utarbeidet i samarbeid mellom de tre odontologiske lærestedene\, Kompe-\ntansesenteret for dekontaminering ved OUS\, NTF\, Helsedirektoratet og Folkehelseinstituttet. Anbefalingene gjelder alt personell som er direkte eller indirekte involvert i klinisk odontologisk virksomhet. \nKursholdere \nSmittevernoverlege Maria Vandbakk-Rüther og hygienesykepleier Hilde Aasen tar dere gjennom de viktigste punktene. \nKan vi stole på vurderingene våre?\nVi liker å tro at vi er rasjonelle. Men hjernen vår tar en del snarveier som kan være fine å ha\, men som også kan lede oss inn i noen skumle tankefeller. Er for eksempel førsteinntrykket vårt til å stole på? Hvordan overstyrer magefølelsen rasjonelle valg? Hvordan bruker vi viljestyrken vår? \nKursholder\nJan-Ole Hesselberg er psykologen fra og bak TV-sukssen «Folkeopplysningen» og «Typisk deg» med Petter Schjerven. Han ble i 2014 kåret til «Årets folkeopplyser» for sitt formidlingsarbeid. På dagtid er han ledende fagsjef i ExtraStiftelsen\, og holder på med en doktorgrad innen beslutningspsykologi ved UiO. \nLørdag 12. oktober\nMålgruppe: tannleger \nHemings metoder!\nHeming Olsen-Bergem kommer til oss for å dele av sin kunnskap innen oral kirurgi og oral medisin. Han vil snakke om behandlingsstrategier ved TMD og smerter\, tips og triks ved enkle kirurgiske metoder i allmenn-\npraksis\, og ikke minst gå gjennom komplikasjoner etter kirurgiske inngrep. \nKursholder\nHeming Olsen-Bergem er spesialist i oral kirurgi og oral medisin\, og er førsteamanuensis ved Odontologisk fakultet ved UiO.
URL:https://tannhjulet.no/events/farriskurset-2019/
LOCATION:Hotell Farris Bad\, Larvik
CATEGORIES:Norsk sentralt eller lokalt tannlegeforeningsmøte,TSE Etterutdannelse, poengivende,Utstilling (Åpen deltakelse)
END:VEVENT
BEGIN:VEVENT
DTSTART;VALUE=DATE:20191018
DTEND;VALUE=DATE:20191019
DTSTAMP:20260420T122435
CREATED:20190531T184206Z
LAST-MODIFIED:20190531T184206Z
UID:23112-1571356800-1571443199@tannhjulet.no
SUMMARY:Høstkurs Telemark tannlegeforening
DESCRIPTION:Telemark tannlegeforening ønsker hele tannhelseteamet velkommen til høstkurs i Skien! \n \nTid: Fredag 18. oktober 2019\nSted: Skien\n \nKurs 1\nOrala slemhinneförändringar – hur utreder och handlägger vi dessa? \nKurs 2\nHvordan ta optimale røntgenbilder ved første opptak? \nLes mer på www.tannlegeforeningen.no/telemark
URL:https://tannhjulet.no/events/hostkurs-telemark-tannlegeforening/
LOCATION:Sted uten navn\, SKIEN
CATEGORIES:Norsk sentralt eller lokalt tannlegeforeningsmøte,TSE Etterutdannelse, poengivende,Utstilling (Åpen deltakelse)
END:VEVENT
BEGIN:VEVENT
DTSTART;VALUE=DATE:20191018
DTEND;VALUE=DATE:20191020
DTSTAMP:20260420T122435
CREATED:20190531T183927Z
LAST-MODIFIED:20190531T184413Z
UID:23109-1571356800-1571529599@tannhjulet.no
SUMMARY:Årsmøtekurs 2019 NTTF
DESCRIPTION:Årsmøtekurs i periodonti med Nord-Trøndelag Tannlegeforening \n \nDato: 18. – 19. oktober 2019\nSted: Scandic Stiklestad\n Arrangør: Nord-Trøndelag tannlegeforening \nPåmelding\ndeltager.no/arsmotekurset2019 \nArrangør\nNord-Trøndelag Tannlegeforening \nKontakt\nkurspamelding.nttf@gmail.com
URL:https://tannhjulet.no/events/arsmotekurs-nttf/
LOCATION:STIKLESTAD
CATEGORIES:Norsk sentralt eller lokalt tannlegeforeningsmøte,TSE Etterutdannelse, poengivende,Utstilling (Åpen deltakelse)
END:VEVENT
BEGIN:VEVENT
DTSTART;VALUE=DATE:20191031
DTEND;VALUE=DATE:20191103
DTSTAMP:20260420T122435
CREATED:20161130T084114Z
LAST-MODIFIED:20170426T140636Z
UID:13642-1572480000-1572739199@tannhjulet.no
SUMMARY:NorDental 2019 og NTFs landsmøte
DESCRIPTION:www.tannlegeforeningen.no
URL:https://tannhjulet.no/events/norges-varemesse-lillestrom-ntfs-landsmote/
LOCATION:Lillestrøm
CATEGORIES:Årsmøte,Faglig foredrag / Kurs,Norsk sentralt eller lokalt tannlegeforeningsmøte,TSE Etterutdannelse, poengivende,Utstilling (Åpen deltakelse)
END:VEVENT
END:VCALENDAR