BEGIN:VCALENDAR
VERSION:2.0
PRODID:-//Tannhjulet - ECPv6.15.20//NONSGML v1.0//EN
CALSCALE:GREGORIAN
METHOD:PUBLISH
X-WR-CALNAME:Tannhjulet
X-ORIGINAL-URL:https://tannhjulet.no
X-WR-CALDESC:Events for Tannhjulet
REFRESH-INTERVAL;VALUE=DURATION:PT1H
X-Robots-Tag:noindex
X-PUBLISHED-TTL:PT1H
BEGIN:VTIMEZONE
TZID:Europe/Copenhagen
BEGIN:DAYLIGHT
TZOFFSETFROM:+0100
TZOFFSETTO:+0200
TZNAME:CEST
DTSTART:20190331T010000
END:DAYLIGHT
BEGIN:STANDARD
TZOFFSETFROM:+0200
TZOFFSETTO:+0100
TZNAME:CET
DTSTART:20191027T010000
END:STANDARD
BEGIN:DAYLIGHT
TZOFFSETFROM:+0100
TZOFFSETTO:+0200
TZNAME:CEST
DTSTART:20200329T010000
END:DAYLIGHT
BEGIN:STANDARD
TZOFFSETFROM:+0200
TZOFFSETTO:+0100
TZNAME:CET
DTSTART:20201025T010000
END:STANDARD
BEGIN:DAYLIGHT
TZOFFSETFROM:+0100
TZOFFSETTO:+0200
TZNAME:CEST
DTSTART:20210328T010000
END:DAYLIGHT
BEGIN:STANDARD
TZOFFSETFROM:+0200
TZOFFSETTO:+0100
TZNAME:CET
DTSTART:20211031T010000
END:STANDARD
END:VTIMEZONE
BEGIN:VEVENT
DTSTART;VALUE=DATE:20200116
DTEND;VALUE=DATE:20200118
DTSTAMP:20260420T174503
CREATED:20191109T213100Z
LAST-MODIFIED:20191109T213223Z
UID:23792-1579132800-1579305599@tannhjulet.no
SUMMARY:Januarkurset 2020
DESCRIPTION:16.-17.Januar 2020\nAlle kurs varer fra kl. 0900 – 1600 Alle kurs teller 6 timer i NTFs etterutdanningssystem \nOslo Kongressenter\, ved Youngstorget. Senteret er lett å nå med offentlige kommunikasjonsmidler. Parkeringsmulighetene er gode (parkeringshuset ”Ibsen”)\, og det finnes flere hoteller i nærheten. \nSpørsmål om kursene Kontakt kurskonsulent Ann Kristin Engh Solem E-post: akes@tannlegeforeningen.no Tlf: +47 22 54 74 00 \nNB! Lavere kursavgift før 1. desember 2019 Ved påmelding etter fristen\, 1. desember 2019\, vil kursavgiften øke med kr 500. Ved påmelding etter 1. januar 2020\, dersom det fortsatt er ledig plass på kurset\, vil kursavgiften øke med kr 1 000. \n \nMer informasjon\, utdrag fra NTF etterutdannelsekatalog: JANUARKURSENE 2020 \nEller les her: \nJanuarkursene 2020 fra katalogen
URL:https://tannhjulet.no/events/januarkurset-2020/
LOCATION:Oslo Kongressenter\, Oslo\, Norge
CATEGORIES:Faglig foredrag / Kurs,Norsk sentralt eller lokalt tannlegeforeningsmøte,TSE Etterutdannelse, poengivende,Utstilling (Åpen deltakelse)
END:VEVENT
BEGIN:VEVENT
DTSTART;VALUE=DATE:20200116
DTEND;VALUE=DATE:20200119
DTSTAMP:20260420T174503
CREATED:20190612T121735Z
LAST-MODIFIED:20200108T143741Z
UID:23241-1579132800-1579391999@tannhjulet.no
SUMMARY:Vestlandsmøtet 2020
DESCRIPTION:Vestlandsmøtet består av tre parallelle forkurs for tannleger torsdag\, et kurs for tannhelsesekretærer og tannpleiere fredag\, samt foredrag/dentalutstilling fredag og lørdag. \nVestlandsmøtet finner sted 16.-18. januar i 2020!\nSted: Grieghallen\, Bergen \nDette er litt utenom normen\, da det som utgangspunkt arrangeres andre helgen i januar\, men den helgen har Bergen Filharmoniske Orkester gjort krav på Grieghallen. \nKlikk her for å melde deg på \nSpørsmål vedrørende påmelding (og annet) til Vestlandsmøtet rettes til Bergen Kongress og kultur på e-post: post@kongress.no eller tlf: 55 55 36 55 \n  \nHer er Programmet: \n  \n2020 Vestlandsmøtet EXTRACT program
URL:https://tannhjulet.no/events/vestlandsmotet-2010/
CATEGORIES:Norsk sentralt eller lokalt tannlegeforeningsmøte,TSE Etterutdannelse, poengivende
END:VEVENT
BEGIN:VEVENT
DTSTART;VALUE=DATE:20200124
DTEND;VALUE=DATE:20200127
DTSTAMP:20260420T174503
CREATED:20191020T205540Z
LAST-MODIFIED:20191020T205540Z
UID:23657-1579824000-1580083199@tannhjulet.no
SUMMARY:Geiloseminaret 2020 - studenter
DESCRIPTION:24. – 26. Januar arrangerer Odontologforeningen i Bergen det årlige Geiloseminaret på Norlandia Geilo Hotell\, med 200 deltakende tannlege- og tannpleierstudenter fra hele landet. Dette er et arrangemenet som gjennom godt over 20 år har vært årets store høydepunkt for Norges Tannlegestudenter.\nTema for året 2020 er: ’’Å henvise eller ikke henvise’’\, og helgen vil inneholde spennende foredrag\, konkurranser\, utstillinger og ellers mye sosialt utenomfaglig. Tradisjonen tro\, vil det også være utlodning av store og små premier. \n  \nSjekk \n \n  \nPrøv \ngeiloseminaret2018@gmail.com
URL:https://tannhjulet.no/events/geiloseminaret-2020-studenter/
LOCATION:Norlandia Geilo Hotell\, Geilo
CATEGORIES:Faglig foredrag / Kurs,Norsk sentralt eller lokalt tannlegeforeningsmøte
END:VEVENT
END:VCALENDAR