BEGIN:VCALENDAR
VERSION:2.0
PRODID:-//Tannhjulet - ECPv6.15.20//NONSGML v1.0//EN
CALSCALE:GREGORIAN
METHOD:PUBLISH
X-WR-CALNAME:Tannhjulet
X-ORIGINAL-URL:https://tannhjulet.no
X-WR-CALDESC:Events for Tannhjulet
REFRESH-INTERVAL;VALUE=DURATION:PT1H
X-Robots-Tag:noindex
X-PUBLISHED-TTL:PT1H
BEGIN:VTIMEZONE
TZID:Europe/Copenhagen
BEGIN:DAYLIGHT
TZOFFSETFROM:+0100
TZOFFSETTO:+0200
TZNAME:CEST
DTSTART:20190331T010000
END:DAYLIGHT
BEGIN:STANDARD
TZOFFSETFROM:+0200
TZOFFSETTO:+0100
TZNAME:CET
DTSTART:20191027T010000
END:STANDARD
BEGIN:DAYLIGHT
TZOFFSETFROM:+0100
TZOFFSETTO:+0200
TZNAME:CEST
DTSTART:20200329T010000
END:DAYLIGHT
BEGIN:STANDARD
TZOFFSETFROM:+0200
TZOFFSETTO:+0100
TZNAME:CET
DTSTART:20201025T010000
END:STANDARD
BEGIN:DAYLIGHT
TZOFFSETFROM:+0100
TZOFFSETTO:+0200
TZNAME:CEST
DTSTART:20210328T010000
END:DAYLIGHT
BEGIN:STANDARD
TZOFFSETFROM:+0200
TZOFFSETTO:+0100
TZNAME:CET
DTSTART:20211031T010000
END:STANDARD
END:VTIMEZONE
BEGIN:VEVENT
DTSTART;VALUE=DATE:20200207
DTEND;VALUE=DATE:20200209
DTSTAMP:20260420T192424
CREATED:20190612T122038Z
LAST-MODIFIED:20190618T195847Z
UID:23243-1581033600-1581206399@tannhjulet.no
SUMMARY:Klækkenkurset 2020
DESCRIPTION:Kirurgi og radiologi. \nDag Tvedt og Caroline Hol.\n\nmer info kommer
URL:https://tannhjulet.no/events/klaekkenkurset-2020/
LOCATION:Klækken\, Norge
CATEGORIES:Norsk sentralt eller lokalt tannlegeforeningsmøte,TSE Etterutdannelse, poengivende,Utstilling (Åpen deltakelse)
ORGANIZER;CN="Buskerud Tannlegeforening":MAILTO:tdterjetann@gmail.com
END:VEVENT
BEGIN:VEVENT
DTSTART;TZID=Europe/Copenhagen:20200213T183000
DTEND;TZID=Europe/Copenhagen:20200213T220000
DTSTAMP:20260420T192424
CREATED:20191212T212830Z
LAST-MODIFIED:20191212T212830Z
UID:23993-1581618600-1581631200@tannhjulet.no
SUMMARY:Kurs i benoppbygning
DESCRIPTION:Dato: 13. februar 2020\nTid: 18:30 – 22:00\nSted: Clarion Hotel The Hub\, Oslo\nKart utilgjengelig\n  \nMålet med kurset er å gi tannleger økt kunnskap om de mulighetene som tilbys i dag for å erstatte tapt ben- og bløtvev. Vitenskapelig baserte konsept og klinisk velprøvde metoder vil presenteres og drøftes. \n\nKursinnhold\n\nBakgrunn og studier\n\nHvor står vi i dag?\nDokumentasjon og studier\nKollagene materialer og syntetiske materialer – fordeler og ulemper\nHva vil framtiden bringe innen benoppbygning?\n\n\nKlinisk tilnærming\n\nRegenerativ periodontal behandling\, hva er mulig å behandle og hva\ner langtidsprognosen?\nBenoppbygning knyttet til implantatbehandling\nNår velger vi 1-stegs og når velger vi 2-stegs kirurgi\n\n\nDiskusjon\, spørsmål og svar\n\n  \nNyheten GTO «sticky bone» fra OsteoBiol vil bli vist og demonstrert på kurset. Dette putty-lignende benoppbygningsmaterialet har enestående håndteringsegenskaper; materialet pakkes og modelleres på en enkel måte. Benytt muligheten til å teste denne revolusjonerende nyheten. Osteobiol er Europas nest største produsent av biomaterialer. \nKurset holdes på svensk. \nKursholder\n\n\n\n\nUlf Nannmark\, leg tdl. PhD\, Docent \nTandläkare sedan 1986\, Odont Dr och Docent 1992. Varit mångårig medarbetare till P-I Brånemark på Carlanderska sjukhuset.\nMer än 25 års forskning på ben\, implantat samt biomaterial i internationella samarbeten.\nHar under forskningstiden arbetat kliniskt både privat och inom specialistsektorn med framförallt implantatkirurgi.\nÄr sedan 7 år tillbaka i tumörteamet på avdelningen för Maxillofacial kirurgi\, Göteborg universitet. Arbetar med rehabilitering efter tumör resektioner.
URL:https://tannhjulet.no/events/kurs-i-benoppbygning-2/
LOCATION:Clarion hotel\, The Hub\, Oslo\, OSLO\, Norge
CATEGORIES:Leverandørarrangement,Norsk sentralt eller lokalt tannlegeforeningsmøte,TSE Etterutdannelse, poengivende
END:VEVENT
END:VCALENDAR