BEGIN:VCALENDAR
VERSION:2.0
PRODID:-//Tannhjulet - ECPv6.15.20//NONSGML v1.0//EN
CALSCALE:GREGORIAN
METHOD:PUBLISH
X-ORIGINAL-URL:https://tannhjulet.no
X-WR-CALDESC:Events for Tannhjulet
REFRESH-INTERVAL;VALUE=DURATION:PT1H
X-Robots-Tag:noindex
X-PUBLISHED-TTL:PT1H
BEGIN:VTIMEZONE
TZID:Europe/Copenhagen
BEGIN:DAYLIGHT
TZOFFSETFROM:+0100
TZOFFSETTO:+0200
TZNAME:CEST
DTSTART:20190331T010000
END:DAYLIGHT
BEGIN:STANDARD
TZOFFSETFROM:+0200
TZOFFSETTO:+0100
TZNAME:CET
DTSTART:20191027T010000
END:STANDARD
BEGIN:DAYLIGHT
TZOFFSETFROM:+0100
TZOFFSETTO:+0200
TZNAME:CEST
DTSTART:20200329T010000
END:DAYLIGHT
BEGIN:STANDARD
TZOFFSETFROM:+0200
TZOFFSETTO:+0100
TZNAME:CET
DTSTART:20201025T010000
END:STANDARD
BEGIN:DAYLIGHT
TZOFFSETFROM:+0100
TZOFFSETTO:+0200
TZNAME:CEST
DTSTART:20210328T010000
END:DAYLIGHT
BEGIN:STANDARD
TZOFFSETFROM:+0200
TZOFFSETTO:+0100
TZNAME:CET
DTSTART:20211031T010000
END:STANDARD
END:VTIMEZONE
BEGIN:VEVENT
DTSTART;VALUE=DATE:20200423
DTEND;VALUE=DATE:20200425
DTSTAMP:20260420T230315
CREATED:20181114T224025Z
LAST-MODIFIED:20200311T220841Z
UID:21170-1587600000-1587772799@tannhjulet.no
SUMMARY:MNM MidtNorgeMøtet 2020 -AVLYST
DESCRIPTION:11.mars fikk vi beskjed om at Midt-Norgemøtet 2020 er avlyst pga Corona \nVelkommen til\n det 30. Midt-Norgemøtet\n i Trondheim 23.–24. april 2020\n på Clarion Hotel & Congress Trondheim\n Brattørkaia 1\, 7010 Trondheim – Tlf. +47 73 92 55 00 \nPåmelding skjer elektronisk\n www.deltager.no/mnm2020 eller link på tannlegeforeningen.no \nPriser:\nDeltakelse 1 kursdag: kr 2500\,-. Deltakelse 2 kursdager: kr 4350\,-. \nFor tannleger som ikke er medlem av NTF\, kommer et tillegg på kr 500 pr. kursdag.\nStudenter og videreutdanningskandidater betaler kun for dagpakke kr 675 pr. dag.\nPensjonister/ikke yrkesaktive tannleger betaler ikke kursavgift\, men betaler for lunsj\nkr 300 pr. kursdag.\nStudenter\, videreutdanningskandidater\, styret i STTF\, aeresmedlemmer\, pen sjo nister\n og tannleger som ikke er medlemmer av NTF\, melder seg på via: deltager.no/mnm2020styret \nDagpakke inkluderer:\n• Innholdsrik lunsj m/kaffe & te\n• Fri kaffe & te-buffet hele dagen\n• Frukt\, grønt og kake i buffet på formiddag og ettermiddag \nFestaften torsdag 23. april på Clarion Hotel & Congress Trondheim:\nKuvertpris kr 995\,-. Drikke bestilles individuelt.\nBonger kan kjøpes på hotellet under kursdagen. \nPåmeldingsfrist 10. april 2020 \n  \nPÅMELDING Clarion Hotel & Congress gjør du på epost til: groups.cl.trondheim@choice.no og angir gruppekode: 1121GR006715\nPriser: enkelt 1375\, Dobbelt 1577\nNB!\nFram til 1. april vil det kun vaere mulig å melde seg på festaften dersom du\nhar meldt deg på ett eller flere kurs.\nDu finner oss også på Facebook ved å søke på\nwww.facebook.com/MidtNorgemotet.\nSpørsmål angående påmelding og fagprogram rettes til\nKai Åge Årseth: kaiage1972@gmail.com \nFor mer informasjon se www.facebook.com/MidtNorgemotet \nHenv. Kai Åge Årseth\, e-post: kaiage1972@gmail.com \nKomplett program laster du ned på denne linken \nMidtnorgemte MNM 2020-Program redusert til TH
URL:https://tannhjulet.no/events/midtnorge-motet-2020/
LOCATION:Trondheim\, Norge
CATEGORIES:Faglig foredrag / Kurs,Norsk sentralt eller lokalt tannlegeforeningsmøte,TSE Etterutdannelse, poengivende,Utstilling (Åpen deltakelse)
END:VEVENT
END:VCALENDAR