BEGIN:VCALENDAR
VERSION:2.0
PRODID:-//Tannhjulet - ECPv6.15.20//NONSGML v1.0//EN
CALSCALE:GREGORIAN
METHOD:PUBLISH
X-ORIGINAL-URL:https://tannhjulet.no
X-WR-CALDESC:Events for Tannhjulet
REFRESH-INTERVAL;VALUE=DURATION:PT1H
X-Robots-Tag:noindex
X-PUBLISHED-TTL:PT1H
BEGIN:VTIMEZONE
TZID:Europe/Copenhagen
BEGIN:DAYLIGHT
TZOFFSETFROM:+0100
TZOFFSETTO:+0200
TZNAME:CEST
DTSTART:20210328T010000
END:DAYLIGHT
BEGIN:STANDARD
TZOFFSETFROM:+0200
TZOFFSETTO:+0100
TZNAME:CET
DTSTART:20211031T010000
END:STANDARD
BEGIN:DAYLIGHT
TZOFFSETFROM:+0100
TZOFFSETTO:+0200
TZNAME:CEST
DTSTART:20220327T010000
END:DAYLIGHT
BEGIN:STANDARD
TZOFFSETFROM:+0200
TZOFFSETTO:+0100
TZNAME:CET
DTSTART:20221030T010000
END:STANDARD
BEGIN:DAYLIGHT
TZOFFSETFROM:+0100
TZOFFSETTO:+0200
TZNAME:CEST
DTSTART:20230326T010000
END:DAYLIGHT
BEGIN:STANDARD
TZOFFSETFROM:+0200
TZOFFSETTO:+0100
TZNAME:CET
DTSTART:20231029T010000
END:STANDARD
END:VTIMEZONE
BEGIN:VEVENT
DTSTART;VALUE=DATE:20221103
DTEND;VALUE=DATE:20221106
DTSTAMP:20260421T212116
CREATED:20170201T105608Z
LAST-MODIFIED:20181020T171830Z
UID:14449-1667433600-1667692799@tannhjulet.no
SUMMARY:2022 NTF LANDSMØTE og NorDental
DESCRIPTION:2022 NTF LANDSMØTE og NorDental:  torsdag 3 – lørdag 5. november – Norges Varemesse\, Lillestrøm \nOBS datoene kan endres
URL:https://tannhjulet.no/events/2022-ntf-landsmote-og-nordental/
LOCATION:Norges Varemesse\, Lillestrøm\, Oslo\, Velg et land:
CATEGORIES:Årsmøte,Faglig foredrag / Kurs,Norsk sentralt eller lokalt tannlegeforeningsmøte,TSE Etterutdannelse, poengivende,Utstilling (Åpen deltakelse)
END:VEVENT
END:VCALENDAR