BEGIN:VCALENDAR
VERSION:2.0
PRODID:-//Tannhjulet - ECPv6.15.20//NONSGML v1.0//EN
CALSCALE:GREGORIAN
METHOD:PUBLISH
X-WR-CALNAME:Tannhjulet
X-ORIGINAL-URL:https://tannhjulet.no
X-WR-CALDESC:Events for Tannhjulet
REFRESH-INTERVAL;VALUE=DURATION:PT1H
X-Robots-Tag:noindex
X-PUBLISHED-TTL:PT1H
BEGIN:VTIMEZONE
TZID:Europe/Copenhagen
BEGIN:DAYLIGHT
TZOFFSETFROM:+0100
TZOFFSETTO:+0200
TZNAME:CEST
DTSTART:20150329T010000
END:DAYLIGHT
BEGIN:STANDARD
TZOFFSETFROM:+0200
TZOFFSETTO:+0100
TZNAME:CET
DTSTART:20151025T010000
END:STANDARD
BEGIN:DAYLIGHT
TZOFFSETFROM:+0100
TZOFFSETTO:+0200
TZNAME:CEST
DTSTART:20160327T010000
END:DAYLIGHT
BEGIN:STANDARD
TZOFFSETFROM:+0200
TZOFFSETTO:+0100
TZNAME:CET
DTSTART:20161030T010000
END:STANDARD
BEGIN:DAYLIGHT
TZOFFSETFROM:+0100
TZOFFSETTO:+0200
TZNAME:CEST
DTSTART:20170326T010000
END:DAYLIGHT
BEGIN:STANDARD
TZOFFSETFROM:+0200
TZOFFSETTO:+0100
TZNAME:CET
DTSTART:20171029T010000
END:STANDARD
END:VTIMEZONE
BEGIN:VEVENT
DTSTART;VALUE=DATE:20160429
DTEND;VALUE=DATE:20160501
DTSTAMP:20260422T233121
CREATED:20160329T195213Z
LAST-MODIFIED:20160329T195213Z
UID:12003-1461888000-1462060799@tannhjulet.no
SUMMARY:"Digital Trails"
DESCRIPTION:Great things happen when men and the Nature meet. \nThe powerful energy of our inspiring natural environment goes hand in hand with our core values of innovation\, discipline\, trust and responsibility and influences\, day by day\, our creativity and technique. \nGain an insight into our technical knowhow and discover the origins of our inspiration: take part in the 2-day\, free training that we have organized just for you in the heart of the Alps\, on the 29th and 30th of April! On that special occasion\, you will get to know our company\, our in-house CAD/CAM production and our colouring techniques (please see below the detailed program). \nThe only thing that you have to do is free your mind and book a flight … Let us take care of all the rest!We will arrange and bear the costs of the airport transfer and the accommodation.  \nWe are looking forward to welcoming you!Do not hesitate to contact me for registration or further information.  \n\n\n\n\nYours sincerely  \nBarbara Schwingshackl Marketing Northern and Eastern Europe  \nTel.: +39 0474 066 721
URL:https://tannhjulet.no/events/digital-trails/
LOCATION:Syd Tyrol\, Italia
CATEGORIES:Faglig foredrag / Kurs,Leverandørarrangement,Reisearrangement
END:VEVENT
END:VCALENDAR