BEGIN:VCALENDAR
VERSION:2.0
PRODID:-//Tannhjulet - ECPv6.15.20//NONSGML v1.0//EN
CALSCALE:GREGORIAN
METHOD:PUBLISH
X-WR-CALNAME:Tannhjulet
X-ORIGINAL-URL:https://tannhjulet.no
X-WR-CALDESC:Events for Tannhjulet
REFRESH-INTERVAL;VALUE=DURATION:PT1H
X-Robots-Tag:noindex
X-PUBLISHED-TTL:PT1H
BEGIN:VTIMEZONE
TZID:Europe/Copenhagen
BEGIN:DAYLIGHT
TZOFFSETFROM:+0100
TZOFFSETTO:+0200
TZNAME:CEST
DTSTART:20160327T010000
END:DAYLIGHT
BEGIN:STANDARD
TZOFFSETFROM:+0200
TZOFFSETTO:+0100
TZNAME:CET
DTSTART:20161030T010000
END:STANDARD
BEGIN:DAYLIGHT
TZOFFSETFROM:+0100
TZOFFSETTO:+0200
TZNAME:CEST
DTSTART:20170326T010000
END:DAYLIGHT
BEGIN:STANDARD
TZOFFSETFROM:+0200
TZOFFSETTO:+0100
TZNAME:CET
DTSTART:20171029T010000
END:STANDARD
BEGIN:DAYLIGHT
TZOFFSETFROM:+0100
TZOFFSETTO:+0200
TZNAME:CEST
DTSTART:20180325T010000
END:DAYLIGHT
BEGIN:STANDARD
TZOFFSETFROM:+0200
TZOFFSETTO:+0100
TZNAME:CET
DTSTART:20181028T010000
END:STANDARD
END:VTIMEZONE
BEGIN:VEVENT
DTSTART;VALUE=DATE:20170118
DTEND;VALUE=DATE:20170123
DTSTAMP:20260422T084854
CREATED:20161010T101529Z
LAST-MODIFIED:20161027T143822Z
UID:13003-1484697600-1485129599@tannhjulet.no
SUMMARY:Alpetur Coltene 2017
DESCRIPTION:I samarbeid med Coltene arrangerer Dentalforum og Dental Sør tur til Lech i Østerrike 18. – 22. januar 2017. \n  \nForeløpig program:Onsdag 18. Avreise og ankomst Zurich lufthavn ca. kl. 15:45\, buss til Hotellet kl. 16:30Torsdag 19. kl. 08:30 – kl. 11:00 Kurs/ produktpresentasjoner om siste nytt innen CAD CAM Dentalforum/ ColteneFredag 20. kl. 08:30 – kl. 11:00 Kurs i Endo. kl. 16:30 – kl. 19:00 Dental Sør produktpresentasjon og aktiviteterLørdag 21. Fri disposisjonSøndag 22. Hjem reise kl. 10:30 Buss til flyplassen. \nPriser:Dobbeltrom kr 14 000\,- pr pers. Enkeltrom i jr. suite med 2 separate soverom kr 14 800\,- pr pers.Depositum kr 3 000\,- pr pers. Depositum refunderes ikke ved eventuell avbestilling. \nKurs og opphold blir fakturert fra DS. Dette dekker kursutgifter\, hotell inkl. frokost og middag\, samt transport. \nDeltagere bestiller og betaler selv flyreisen. Det er viktig at alle ank. Zurich lufthavn onsdag 18.1. 2017 innen kl. 16:30. Bussen går kl. 17:00. På returen vil bussen ankomme Zurich lufthavn ca. kl. 13:00. \nFly alternativ;Lufthansa/ Swiss flyr Oslo – Zurich (kl. 13:20 – kl. 15:45\, retur kl.14:40 – kl. 17:05) \nPåmelding/reservasjon til Ragnhild e-post; ragnhild.holberg@coltene.com  ellerJens Petter Fallet e-post; jp@dentalnet.no \nVi bor på hotell Montane i Oberlech\, følg link for å se mer av hotellet.    
URL:https://tannhjulet.no/events/alpetur-coltene/
LOCATION:Lech\, Østerrike\, Norge
CATEGORIES:Faglig foredrag / Kurs,Leverandørarrangement,Reisearrangement
ATTACH;FMTTYPE=image/jpeg:https://tannhjulet.no/wp-content/uploads/2016/10/alpetur-2017-001.jpg
END:VEVENT
END:VCALENDAR