BEGIN:VCALENDAR
VERSION:2.0
PRODID:-//Tannhjulet - ECPv6.15.20//NONSGML v1.0//EN
CALSCALE:GREGORIAN
METHOD:PUBLISH
X-WR-CALNAME:Tannhjulet
X-ORIGINAL-URL:https://tannhjulet.no
X-WR-CALDESC:Events for Tannhjulet
REFRESH-INTERVAL;VALUE=DURATION:PT1H
X-Robots-Tag:noindex
X-PUBLISHED-TTL:PT1H
BEGIN:VTIMEZONE
TZID:Europe/Copenhagen
BEGIN:DAYLIGHT
TZOFFSETFROM:+0100
TZOFFSETTO:+0200
TZNAME:CEST
DTSTART:20160327T010000
END:DAYLIGHT
BEGIN:STANDARD
TZOFFSETFROM:+0200
TZOFFSETTO:+0100
TZNAME:CET
DTSTART:20161030T010000
END:STANDARD
BEGIN:DAYLIGHT
TZOFFSETFROM:+0100
TZOFFSETTO:+0200
TZNAME:CEST
DTSTART:20170326T010000
END:DAYLIGHT
BEGIN:STANDARD
TZOFFSETFROM:+0200
TZOFFSETTO:+0100
TZNAME:CET
DTSTART:20171029T010000
END:STANDARD
BEGIN:DAYLIGHT
TZOFFSETFROM:+0100
TZOFFSETTO:+0200
TZNAME:CEST
DTSTART:20180325T010000
END:DAYLIGHT
BEGIN:STANDARD
TZOFFSETFROM:+0200
TZOFFSETTO:+0100
TZNAME:CET
DTSTART:20181028T010000
END:STANDARD
END:VTIMEZONE
BEGIN:VEVENT
DTSTART;TZID=Europe/Copenhagen:20170829T080000
DTEND;TZID=Europe/Copenhagen:20170901T170000
DTSTAMP:20260421T214835
CREATED:20161202T213343Z
LAST-MODIFIED:20161205T204152Z
UID:13646-1503993600-1504285200@tannhjulet.no
SUMMARY:FDI-kongress\, Madrid
DESCRIPTION:www.fdiworldental.org:  The FDI World Dental Congress (FDI WDC) provides a scientific programme\, a trade exhibition and an international forum for the review and discussion of the advancement of oral health\, oral health care and all other subjects which will advance the objectives of FDI. It provides an opportunity for the strengthening of relations between the dental organizations\, peoples and countries of the world.
URL:https://tannhjulet.no/events/madrid-spania-fdi/
CATEGORIES:Årsmøte,Faglig foredrag / Kurs,Reisearrangement,TSE Etterutdannelse, poengivende,Utstilling (Åpen deltakelse)
END:VEVENT
END:VCALENDAR