BEGIN:VCALENDAR
VERSION:2.0
PRODID:-//Tannhjulet - ECPv6.15.20//NONSGML v1.0//EN
CALSCALE:GREGORIAN
METHOD:PUBLISH
X-ORIGINAL-URL:https://tannhjulet.no
X-WR-CALDESC:Events for Tannhjulet
REFRESH-INTERVAL;VALUE=DURATION:PT1H
X-Robots-Tag:noindex
X-PUBLISHED-TTL:PT1H
BEGIN:VTIMEZONE
TZID:Europe/Copenhagen
BEGIN:DAYLIGHT
TZOFFSETFROM:+0100
TZOFFSETTO:+0200
TZNAME:CEST
DTSTART:20160327T010000
END:DAYLIGHT
BEGIN:STANDARD
TZOFFSETFROM:+0200
TZOFFSETTO:+0100
TZNAME:CET
DTSTART:20161030T010000
END:STANDARD
BEGIN:DAYLIGHT
TZOFFSETFROM:+0100
TZOFFSETTO:+0200
TZNAME:CEST
DTSTART:20170326T010000
END:DAYLIGHT
BEGIN:STANDARD
TZOFFSETFROM:+0200
TZOFFSETTO:+0100
TZNAME:CET
DTSTART:20171029T010000
END:STANDARD
BEGIN:DAYLIGHT
TZOFFSETFROM:+0100
TZOFFSETTO:+0200
TZNAME:CEST
DTSTART:20180325T010000
END:DAYLIGHT
BEGIN:STANDARD
TZOFFSETFROM:+0200
TZOFFSETTO:+0100
TZNAME:CET
DTSTART:20181028T010000
END:STANDARD
END:VTIMEZONE
BEGIN:VEVENT
DTSTART;VALUE=DATE:20171124
DTEND;VALUE=DATE:20171130
DTSTAMP:20260421T231907
CREATED:20170828T134433Z
LAST-MODIFIED:20181114T234237Z
UID:17027-1511481600-1511999999@tannhjulet.no
SUMMARY:Greater New York Dental Meeting 2017
DESCRIPTION:Welcome to the Greater NY Dental Meeting 2017\nThe Largest Dental Meeting in the United States with over 54\,000 Attendees
URL:https://tannhjulet.no/events/greater-new-york-dental-meeting/
LOCATION:Jacob K. Javits Convention Center\, New York\, USA\, Norge
CATEGORIES:Årsmøte,Faglig foredrag / Kurs,Reisearrangement,Utstilling (Åpen deltakelse)
END:VEVENT
END:VCALENDAR