BEGIN:VCALENDAR
VERSION:2.0
PRODID:-//Tannhjulet - ECPv6.15.20//NONSGML v1.0//EN
CALSCALE:GREGORIAN
METHOD:PUBLISH
X-WR-CALNAME:Tannhjulet
X-ORIGINAL-URL:https://tannhjulet.no
X-WR-CALDESC:Events for Tannhjulet
REFRESH-INTERVAL;VALUE=DURATION:PT1H
X-Robots-Tag:noindex
X-PUBLISHED-TTL:PT1H
BEGIN:VTIMEZONE
TZID:Europe/Copenhagen
BEGIN:DAYLIGHT
TZOFFSETFROM:+0100
TZOFFSETTO:+0200
TZNAME:CEST
DTSTART:20170326T010000
END:DAYLIGHT
BEGIN:STANDARD
TZOFFSETFROM:+0200
TZOFFSETTO:+0100
TZNAME:CET
DTSTART:20171029T010000
END:STANDARD
BEGIN:DAYLIGHT
TZOFFSETFROM:+0100
TZOFFSETTO:+0200
TZNAME:CEST
DTSTART:20180325T010000
END:DAYLIGHT
BEGIN:STANDARD
TZOFFSETFROM:+0200
TZOFFSETTO:+0100
TZNAME:CET
DTSTART:20181028T010000
END:STANDARD
BEGIN:DAYLIGHT
TZOFFSETFROM:+0100
TZOFFSETTO:+0200
TZNAME:CEST
DTSTART:20190331T010000
END:DAYLIGHT
BEGIN:STANDARD
TZOFFSETFROM:+0200
TZOFFSETTO:+0100
TZNAME:CET
DTSTART:20191027T010000
END:STANDARD
END:VTIMEZONE
BEGIN:VEVENT
DTSTART;VALUE=DATE:20180628
DTEND;VALUE=DATE:20180702
DTSTAMP:20260422T101728
CREATED:20180529T174445Z
LAST-MODIFIED:20180529T174445Z
UID:20550-1530144000-1530489599@tannhjulet.no
SUMMARY:Cleaning and disinfection with Laser Activated Irrigation
DESCRIPTION:Value added cleaning and disinfection with Laser Activated Irrigation — new paths with PIPS and SWEEPS: evidence and critical analysis.\nSpeaker: Prof. Dr. Roeland De Moor \nForedraget er en del av “Roots Summit” —> “Endodontics\, som holdes i Berlin 28.juni – 1.juli 2018 \nProgram her \nInvitert av   \nScanex Medical Systems AS\nStrømsveien 62\nN-2010 STRØMMEN\nTel.: 67 92 11 50\nKontakt Trond Svorkmo;  tronds@scanex.no
URL:https://tannhjulet.no/events/cleaning-and-disinfection-with-laser-activated-irrigation/
LOCATION:Berlin\, Berlin
CATEGORIES:Faglig foredrag / Kurs,Reisearrangement,Utstilling (Åpen deltakelse)
END:VEVENT
END:VCALENDAR