BEGIN:VCALENDAR
VERSION:2.0
PRODID:-//Tannhjulet - ECPv6.15.20//NONSGML v1.0//EN
CALSCALE:GREGORIAN
METHOD:PUBLISH
X-ORIGINAL-URL:https://tannhjulet.no
X-WR-CALDESC:Events for Tannhjulet
REFRESH-INTERVAL;VALUE=DURATION:PT1H
X-Robots-Tag:noindex
X-PUBLISHED-TTL:PT1H
BEGIN:VTIMEZONE
TZID:Europe/Copenhagen
BEGIN:DAYLIGHT
TZOFFSETFROM:+0100
TZOFFSETTO:+0200
TZNAME:CEST
DTSTART:20170326T010000
END:DAYLIGHT
BEGIN:STANDARD
TZOFFSETFROM:+0200
TZOFFSETTO:+0100
TZNAME:CET
DTSTART:20171029T010000
END:STANDARD
BEGIN:DAYLIGHT
TZOFFSETFROM:+0100
TZOFFSETTO:+0200
TZNAME:CEST
DTSTART:20180325T010000
END:DAYLIGHT
BEGIN:STANDARD
TZOFFSETFROM:+0200
TZOFFSETTO:+0100
TZNAME:CET
DTSTART:20181028T010000
END:STANDARD
BEGIN:DAYLIGHT
TZOFFSETFROM:+0100
TZOFFSETTO:+0200
TZNAME:CEST
DTSTART:20190331T010000
END:DAYLIGHT
BEGIN:STANDARD
TZOFFSETFROM:+0200
TZOFFSETTO:+0100
TZNAME:CET
DTSTART:20191027T010000
END:STANDARD
END:VTIMEZONE
BEGIN:VEVENT
DTSTART;VALUE=DATE:20181010
DTEND;VALUE=DATE:20181014
DTSTAMP:20260422T132916
CREATED:20180815T153819Z
LAST-MODIFIED:20180815T154107Z
UID:20650-1539129600-1539475199@tannhjulet.no
SUMMARY:EAO i Wien
DESCRIPTION:Dentsply Sirona Implants inviterer også i år til gruppearrangement i forbindelse med EAO. \n(European association for osseointegration)\n \n\n\nÅrets kongress tar for seg ulike trinn i benhandlingen under overskriften: «Dreams and reality in implant dentistry». Programmet fokuserer dag for dag på:\nDag 1: Diagnose\nDag 2: Kirurgisk behandling\nDag 3: Protetikk og oppfølging\nKongressen vil også for første gang følge tre kirurgiske behandlinger live.\n\n\nDu finner detaljert program på https://www.eao-congress.com/en/ \n\n\n\n\nVi tilbyr følgende kongresspakke: \n3 netter på Hotel NH Danube City\, inkludert frokost og nordisk middag fredag. Hotellet ligger ni minutter å kjøre eller 30 minutter å gå til messehallen. \n \n– Enkeltrom 3 netter inkludert frokost og nordisk middag 600 EUR. \n– Dobbeltrom 3 netter inkludert frokost og nordisk middag 650 EUR.\n \n\nPåmelding\nMeld deg på innen 20. september på denne linken: https://form.jotformeu.com/KursNorge/eao2018
URL:https://tannhjulet.no/events/eao-i-wien/
LOCATION:Wien\, WIEN\, Østerrike
CATEGORIES:Leverandørarrangement,Reisearrangement,Utstilling (Åpen deltakelse)
END:VEVENT
END:VCALENDAR