BEGIN:VCALENDAR
VERSION:2.0
PRODID:-//Tannhjulet - ECPv6.15.20//NONSGML v1.0//EN
CALSCALE:GREGORIAN
METHOD:PUBLISH
X-ORIGINAL-URL:https://tannhjulet.no
X-WR-CALDESC:Events for Tannhjulet
REFRESH-INTERVAL;VALUE=DURATION:PT1H
X-Robots-Tag:noindex
X-PUBLISHED-TTL:PT1H
BEGIN:VTIMEZONE
TZID:Europe/Copenhagen
BEGIN:DAYLIGHT
TZOFFSETFROM:+0100
TZOFFSETTO:+0200
TZNAME:CEST
DTSTART:20180325T010000
END:DAYLIGHT
BEGIN:STANDARD
TZOFFSETFROM:+0200
TZOFFSETTO:+0100
TZNAME:CET
DTSTART:20181028T010000
END:STANDARD
BEGIN:DAYLIGHT
TZOFFSETFROM:+0100
TZOFFSETTO:+0200
TZNAME:CEST
DTSTART:20190331T010000
END:DAYLIGHT
BEGIN:STANDARD
TZOFFSETFROM:+0200
TZOFFSETTO:+0100
TZNAME:CET
DTSTART:20191027T010000
END:STANDARD
BEGIN:DAYLIGHT
TZOFFSETFROM:+0100
TZOFFSETTO:+0200
TZNAME:CEST
DTSTART:20200329T010000
END:DAYLIGHT
BEGIN:STANDARD
TZOFFSETFROM:+0200
TZOFFSETTO:+0100
TZNAME:CET
DTSTART:20201025T010000
END:STANDARD
END:VTIMEZONE
BEGIN:VTIMEZONE
TZID:Europe/Oslo
BEGIN:DAYLIGHT
TZOFFSETFROM:+0100
TZOFFSETTO:+0200
TZNAME:CEST
DTSTART:20180325T010000
END:DAYLIGHT
BEGIN:STANDARD
TZOFFSETFROM:+0200
TZOFFSETTO:+0100
TZNAME:CET
DTSTART:20181028T010000
END:STANDARD
BEGIN:DAYLIGHT
TZOFFSETFROM:+0100
TZOFFSETTO:+0200
TZNAME:CEST
DTSTART:20190331T010000
END:DAYLIGHT
BEGIN:STANDARD
TZOFFSETFROM:+0200
TZOFFSETTO:+0100
TZNAME:CET
DTSTART:20191027T010000
END:STANDARD
BEGIN:DAYLIGHT
TZOFFSETFROM:+0100
TZOFFSETTO:+0200
TZNAME:CEST
DTSTART:20200329T010000
END:DAYLIGHT
BEGIN:STANDARD
TZOFFSETFROM:+0200
TZOFFSETTO:+0100
TZNAME:CET
DTSTART:20201025T010000
END:STANDARD
END:VTIMEZONE
BEGIN:VEVENT
DTSTART;VALUE=DATE:20190227
DTEND;VALUE=DATE:20190307
DTSTAMP:20260422T200641
CREATED:20181114T214834Z
LAST-MODIFIED:20181116T074244Z
UID:21158-1551225600-1551916799@tannhjulet.no
SUMMARY:Rettsodontologi. Kurs i identifisering
DESCRIPTION:  \nRettsodontologi. 4. internasjonale IOFOS kurs i identifisering\, ved computerprogrammet DVI System Internasjonal ver. 5.1\, og aldersvurderinger. \nRegistrering før 15. desember. Henvendelse: Tore Solheim\, solheim@odont.uio.no \nSe  også nettstedet Norsk Rettsodontologisk forening \n  \nHer er invitasjon og beskrivelse. Du kan laste ned også. \nBrochure IOFOS kursus 2019.3
URL:https://tannhjulet.no/events/rettsodontologi-kurs-i-identifisering/
LOCATION:Longyearbyen\, Svalbard\, Longyearbyen\, Svalbard
CATEGORIES:Faglig foredrag / Kurs,Reisearrangement
END:VEVENT
BEGIN:VEVENT
DTSTART;VALUE=DATE:20190312
DTEND;VALUE=DATE:20190317
DTSTAMP:20260422T200641
CREATED:20181114T231308Z
LAST-MODIFIED:20181114T231847Z
UID:21178-1552348800-1552780799@tannhjulet.no
SUMMARY:IDS - International Dental Show 2019
DESCRIPTION:  \n\n\n\n12.03.19 – 16.03.19 \n\n\n\nIDS – The International Dental Show is a 5-day trade fair and the largest event in Europe for the dental industry. More than 155\,000 visitors and over 2300 exhibiting companies ensured a successful last edition in 2017. IDS 2019 will take place between 12. and 16. March within the 157\,000 square metres of exhibition space at Messe Cologne in Germany. The first day of the event is reserved for trade visitors only. \nThe International Dental Show – IDS is a global gathering point for top companies in the sector to engage in trade deals for import and export of goods\, technology advancements research and other discussion forums. Due to the high need for therapy\, one of the main topics of the previous Dental Show was periodontology and its uses in the future. \nAdditional topics during IDS Cologne included: 3D printing and its implementation throughout the industry; latest trends for equipment systems and consumables; current and future practices in endodontics and diagnostics as well as veneering ceramics and aesthetic restorations. These key points ensure that the trade show provides a comprehensive platform for the most modern technologies used in the dental industry. \nCologne is an essential economic hub in Western Germany. For this reason combined with the big interest in the event\, hotels near IDS and Messe Cologne are booked well in advance. Giving priority to your company needs and successful trade show experience\, Fair Point has a list of offers which can be requested at any given time. Simply contact us with your needs regarding budget\, hotel rating and location and we will find the solution right away. \n​ Messe Cologne\, Messeplatz 1\, Cologne\, Germany \nAnnen event info
URL:https://tannhjulet.no/events/ids-international-dental-show-2019/
LOCATION:Køln\, Tyskland
CATEGORIES:Faglig foredrag / Kurs,Reisearrangement,Utstilling (Åpen deltakelse)
END:VEVENT
END:VCALENDAR