BEGIN:VCALENDAR
VERSION:2.0
PRODID:-//Tannhjulet - ECPv6.15.20//NONSGML v1.0//EN
CALSCALE:GREGORIAN
METHOD:PUBLISH
X-ORIGINAL-URL:https://tannhjulet.no
X-WR-CALDESC:Events for Tannhjulet
REFRESH-INTERVAL;VALUE=DURATION:PT1H
X-Robots-Tag:noindex
X-PUBLISHED-TTL:PT1H
BEGIN:VTIMEZONE
TZID:Europe/Copenhagen
BEGIN:DAYLIGHT
TZOFFSETFROM:+0100
TZOFFSETTO:+0200
TZNAME:CEST
DTSTART:20180325T010000
END:DAYLIGHT
BEGIN:STANDARD
TZOFFSETFROM:+0200
TZOFFSETTO:+0100
TZNAME:CET
DTSTART:20181028T010000
END:STANDARD
BEGIN:DAYLIGHT
TZOFFSETFROM:+0100
TZOFFSETTO:+0200
TZNAME:CEST
DTSTART:20190331T010000
END:DAYLIGHT
BEGIN:STANDARD
TZOFFSETFROM:+0200
TZOFFSETTO:+0100
TZNAME:CET
DTSTART:20191027T010000
END:STANDARD
BEGIN:DAYLIGHT
TZOFFSETFROM:+0100
TZOFFSETTO:+0200
TZNAME:CEST
DTSTART:20200329T010000
END:DAYLIGHT
BEGIN:STANDARD
TZOFFSETFROM:+0200
TZOFFSETTO:+0100
TZNAME:CET
DTSTART:20201025T010000
END:STANDARD
END:VTIMEZONE
BEGIN:VEVENT
DTSTART;VALUE=DATE:20190529
DTEND;VALUE=DATE:20190602
DTSTAMP:20260423T004546
CREATED:20190110T104330Z
LAST-MODIFIED:20190110T104330Z
UID:21329-1559088000-1559433599@tannhjulet.no
SUMMARY:Tannlegens hverdagsvalg - kompositt eller protetikk?
DESCRIPTION:NTFs utenlandskurs arrangeres i år i Funchal på blomsterøya Madeira.\nTid: 29. mai – 1. juni\nPåmeldingsfrist: 1. februar 2019\n\nLes mer på tannlegeforeningen.no / Kurs og utdanning
URL:https://tannhjulet.no/events/tannlegens-hverdagsvalg-kompositt-eller-protetikk/
LOCATION:Madeira\, Madeira\, Portugal
CATEGORIES:Faglig foredrag / Kurs,Reisearrangement,TSE Etterutdannelse, poengivende
END:VEVENT
BEGIN:VEVENT
DTSTART;VALUE=DATE:20190606
DTEND;VALUE=DATE:20190610
DTSTAMP:20260423T004546
CREATED:20181213T081132Z
LAST-MODIFIED:20181213T081132Z
UID:21261-1559779200-1560124799@tannhjulet.no
SUMMARY:ENDOKURS
DESCRIPTION:Bli med til vakre La-Chaux-de-Fonds område og få en oppdatering i nye teknikker innen endodontien. I tillegg til instrumentering med XP-endo Shaper og XP-endo Finisher vil temaer som vertikal obturasjon\, revisjon og bruk av ultralyd være temaer som blir belyst. En halv dag er satt av til workshop hvor alle deltagere blant annet vil ha […]Mer informasjon og påmelding →
URL:https://tannhjulet.no/events/endokurs/
LOCATION:Frankrike\, Frankrike\, Frankrike
CATEGORIES:Faglig foredrag / Kurs,Leverandørarrangement,Reisearrangement
END:VEVENT
END:VCALENDAR